BEGIN:VCALENDAR
VERSION:2.0
PRODID:-//Centre for Climate Action (CCA) - ECPv6.5.1.3//NONSGML v1.0//EN
CALSCALE:GREGORIAN
METHOD:PUBLISH
X-ORIGINAL-URL:https://centreforclimateaction.org
X-WR-CALDESC:Events for Centre for Climate Action (CCA)
REFRESH-INTERVAL;VALUE=DURATION:PT1H
X-Robots-Tag:noindex
X-PUBLISHED-TTL:PT1H
BEGIN:VTIMEZONE
TZID:UTC
BEGIN:STANDARD
TZOFFSETFROM:+0000
TZOFFSETTO:+0000
TZNAME:UTC
DTSTART:20210101T000000
END:STANDARD
END:VTIMEZONE
BEGIN:VEVENT
DTSTART;TZID=UTC:20211101T100000
DTEND;TZID=UTC:20211112T160000
DTSTAMP:20260425T160842
CREATED:20211010T100513Z
LAST-MODIFIED:20220530T130827Z
UID:728-1635760800-1636732800@centreforclimateaction.org
SUMMARY:Centre for Climate Action at COP26
DESCRIPTION:Event Description\nCOP26 represents a key event that brings together all the major stakeholders engaged in climate change issues from governments\, the private sector\, and civil society\, including all the Bank’s main partners in the climate change domain. \nCentre for Climate Action participates in COP26 to amplify East African voice and priorities on climate change\, as articulated in the EAs common position. Through COP26 participation\, we intends to: \n\nStrengthen EA’s voice and priorities on climate change\, as articulated in the EA common position under the United Nations Framework Convention on Climate Change (UNFCCC); and\nShowcase transformative continental programs and innovative de-risking financial instruments to crowd in private sector capital flows.\nForge partnerships to mobilize resources for effective implementation of climate actions after COP26.
URL:https://centreforclimateaction.org/event/centre-for-climate-action-at-cop26/
LOCATION:Glasgow
CATEGORIES:Climate Governance,Our Recent Events
ATTACH;FMTTYPE=image/jpeg:https://centreforclimateaction.org/wp-content/uploads/2021/07/cop26.jpg
END:VEVENT
BEGIN:VEVENT
DTSTART;TZID=UTC:20211102T100000
DTEND;TZID=UTC:20211111T180000
DTSTAMP:20260425T160842
CREATED:20211115T102841Z
LAST-MODIFIED:20220606T133837Z
UID:754-1635847200-1636653600@centreforclimateaction.org
SUMMARY:Climate Governance
DESCRIPTION:Centre for Climate Action (CCA) is facilitating countries on how to prioritize adaptation actions\, while implementing progressive mitigation actions with the aim of achieving a low carbon climate resilient development pathway. This is done through the engagement of all stakeholders in shaping the development and implementation of the relevant climate change policies\, plans and programmes.
URL:https://centreforclimateaction.org/event/climate-governance/
LOCATION:Glasgow
CATEGORIES:Events List View
ATTACH;FMTTYPE=image/jpeg:https://centreforclimateaction.org/wp-content/uploads/2021/11/cop26-messages-from-church-leaders.jpg
END:VEVENT
END:VCALENDAR