BEGIN:VCALENDAR
VERSION:2.0
PRODID:-//Centre for Climate Action (CCA) - ECPv6.5.1.3//NONSGML v1.0//EN
CALSCALE:GREGORIAN
METHOD:PUBLISH
X-WR-CALNAME:Centre for Climate Action (CCA)
X-ORIGINAL-URL:https://centreforclimateaction.org
X-WR-CALDESC:Events for Centre for Climate Action (CCA)
REFRESH-INTERVAL;VALUE=DURATION:PT1H
X-Robots-Tag:noindex
X-PUBLISHED-TTL:PT1H
BEGIN:VTIMEZONE
TZID:UTC
BEGIN:STANDARD
TZOFFSETFROM:+0000
TZOFFSETTO:+0000
TZNAME:UTC
DTSTART:20210101T000000
END:STANDARD
END:VTIMEZONE
BEGIN:VEVENT
DTSTART;TZID=UTC:20210202T100000
DTEND;TZID=UTC:20210202T170000
DTSTAMP:20260421T132357
CREATED:20210202T102542Z
LAST-MODIFIED:20220528T233329Z
UID:747-1612260000-1612285200@centreforclimateaction.org
SUMMARY:World Wetlands day
DESCRIPTION:Event Description\nWorld Wetlands Day serves as a reminder to people to recognize the positive influence that wetlands have on mother nature\nThe day also marks the anniversary of the signing of the Convention on Wetlands of International Importance (Ramsar Convention) in Ramsar\, Iran. \nTheme for World Wetlands Day in 2021 is “Wetlands and Water”. It is based on the positive contribution wetlands have made to people
URL:https://centreforclimateaction.org/event/world-wetlands-day/
LOCATION:Kenya
CATEGORIES:Climate Governance
ATTACH;FMTTYPE=image/jpeg:https://centreforclimateaction.org/wp-content/uploads/2021/07/145027377_2442108595934287_4412826790306343824_n.jpg
END:VEVENT
END:VCALENDAR