BEGIN:VCALENDAR
VERSION:2.0
PRODID:-//Centre for Climate Action (CCA) - ECPv6.5.1.3//NONSGML v1.0//EN
CALSCALE:GREGORIAN
METHOD:PUBLISH
X-ORIGINAL-URL:https://centreforclimateaction.org
X-WR-CALDESC:Events for Centre for Climate Action (CCA)
REFRESH-INTERVAL;VALUE=DURATION:PT1H
X-Robots-Tag:noindex
X-PUBLISHED-TTL:PT1H
BEGIN:VTIMEZONE
TZID:UTC
BEGIN:STANDARD
TZOFFSETFROM:+0000
TZOFFSETTO:+0000
TZNAME:UTC
DTSTART:20220101T000000
END:STANDARD
END:VTIMEZONE
BEGIN:VEVENT
DTSTART;TZID=UTC:20220605T090000
DTEND;TZID=UTC:20220605T150000
DTSTAMP:20260421T101953
CREATED:20220605T100620Z
LAST-MODIFIED:20220605T140229Z
UID:733-1654419600-1654441200@centreforclimateaction.org
SUMMARY:World Environment Day 2022
DESCRIPTION:Happy World Environment Day! Lets take action in combatting the through preservation\, restoration and protection #ClimateCrisis
URL:https://centreforclimateaction.org/event/world-environment-day-2022/
LOCATION:Kenya
CATEGORIES:Recent Events V2
ATTACH;FMTTYPE=image/jpeg:https://centreforclimateaction.org/wp-content/uploads/2021/07/FUdwcf7XEAAGIjV.jpg
END:VEVENT
END:VCALENDAR