BEGIN:VCALENDAR
VERSION:2.0
PRODID:-//Centre for Climate Action (CCA) - ECPv6.5.1.3//NONSGML v1.0//EN
CALSCALE:GREGORIAN
METHOD:PUBLISH
X-WR-CALNAME:Centre for Climate Action (CCA)
X-ORIGINAL-URL:https://centreforclimateaction.org
X-WR-CALDESC:Events for Centre for Climate Action (CCA)
REFRESH-INTERVAL;VALUE=DURATION:PT1H
X-Robots-Tag:noindex
X-PUBLISHED-TTL:PT1H
BEGIN:VTIMEZONE
TZID:UTC
BEGIN:STANDARD
TZOFFSETFROM:+0000
TZOFFSETTO:+0000
TZNAME:UTC
DTSTART:20220101T000000
END:STANDARD
END:VTIMEZONE
BEGIN:VEVENT
DTSTART;TZID=UTC:20220420T090000
DTEND;TZID=UTC:20220420T170000
DTSTAMP:20260423T125046
CREATED:20210726T102751Z
LAST-MODIFIED:20220606T140642Z
UID:752-1650445200-1650474000@centreforclimateaction.org
SUMMARY:Gender Justice in Climate Justice
DESCRIPTION:Centre for Climate Action (CCA) is applying Gender Equality and Social Inclusion (GESI) is a concept that addresses improving access to livelihood assets and services for ALL; including women\, the poor\, and excluded. It supports more inclusive policies and mindsets and increases the voice and influence of all including of the women\, poor and the marginalized.
URL:https://centreforclimateaction.org/event/gender-justice-in-climate-justice/
LOCATION:Kenya
CATEGORIES:Events List View
ATTACH;FMTTYPE=image/png:https://centreforclimateaction.org/wp-content/uploads/2021/07/CCA-Gender-Justice.png
END:VEVENT
END:VCALENDAR